BEGIN:VCALENDAR
VERSION:2.0
PRODID:-//Rippon Lea Estate - ECPv4.6.19//NONSGML v1.0//EN
CALSCALE:GREGORIAN
METHOD:PUBLISH
X-WR-CALNAME:Rippon Lea Estate
X-ORIGINAL-URL:https://www.ripponleaestate.com.au
X-WR-CALDESC:Events for Rippon Lea Estate
BEGIN:VEVENT
DTSTART;TZID=Australia/Melbourne:20181114T170000
DTEND;TZID=Australia/Melbourne:20181207T170000
DTSTAMP:20200229T083409
CREATED:20170928T074117Z
LAST-MODIFIED:20181206T102750Z
UID:1440-1542214800-1544202000@www.ripponleaestate.com.au
SUMMARY:Twilight Christmas Festival 2018
DESCRIPTION:Celebrate the festive season at the Twilight Christmas Festival. The house will be open for you to explore the rich history of the property and its inhabitants through our new interpretation as well as seeing how the house would’ve been dressed for Christmas at the time. Join in with the local choir as well as family games and craft activities and purchase your Christmas goodies from our market before relaxing on the lawn with a bite from an array of food trucks. \nDon’t forget to look out for Santa! \nTWILIGHT FESTIVAL EVENT MAP – DOWNLOAD HERE\n  \n
URL:https://www.ripponleaestate.com.au/event/twilight-christmas-festival-2018/
LOCATION:192 Hotham Street\, Elsternwick\, 3185
ATTACH;FMTTYPE=image/jpeg:https://www.ripponleaestate.com.au/wp-content/uploads/2018_twilight_website_banner_1920x616.jpg
END:VEVENT
END:VCALENDAR