BEGIN:VCALENDAR
VERSION:2.0
PRODID:-//Rippon Lea Estate - ECPv4.6.19//NONSGML v1.0//EN
CALSCALE:GREGORIAN
METHOD:PUBLISH
X-WR-CALNAME:Rippon Lea Estate
X-ORIGINAL-URL:https://www.ripponleaestate.com.au
X-WR-CALDESC:Events for Rippon Lea Estate
BEGIN:VEVENT
DTSTART;TZID=Australia/Melbourne:20180225T100000
DTEND;TZID=Australia/Melbourne:20180225T160000
DTSTAMP:20200229T083216
CREATED:20151202T054209Z
LAST-MODIFIED:20180302T032248Z
UID:389-1519552800-1519574400@www.ripponleaestate.com.au
SUMMARY:Teddy Bears’ Picnic 2018
DESCRIPTION:Grab a picnic\, some friends\, family and most importantly the teddy bears\, roll out a rug and enjoy a wonderful family day out at Rippon Lea House & Gardens for the annual Teddy Bears Picnic. \nThere will be roving entertainment\, performances\, market stalls and an array of activities for all to enjoy. Don’t forget to enter our famous Teddy Bear Parade and Teddy Bear Treasure Hunt. \nFood trucks will be serving delicious savoury and sweet options. \nPlease note there is no ATM onsite at Rippon Lea and most vendors accept CASH ONLY. \nGates will open at 10am sharp\, be sure to get in quick as prizes for the Teddy Bear Hunt are limited! \n
URL:https://www.ripponleaestate.com.au/event/teddy-bears-picnic/
ATTACH;FMTTYPE=image/jpeg:https://www.ripponleaestate.com.au/wp-content/uploads/Teddy-new.jpg
END:VEVENT
END:VCALENDAR