BEGIN:VCALENDAR
VERSION:2.0
PRODID:-//Rippon Lea Estate - ECPv4.6.19//NONSGML v1.0//EN
CALSCALE:GREGORIAN
METHOD:PUBLISH
X-WR-CALNAME:Rippon Lea Estate
X-ORIGINAL-URL:https://www.ripponleaestate.com.au
X-WR-CALDESC:Events for Rippon Lea Estate
BEGIN:VEVENT
DTSTART;TZID=Australia/Melbourne:20200513T180000
DTEND;TZID=Australia/Melbourne:20200513T200000
DTSTAMP:20200229T085902
CREATED:20171206T100415Z
LAST-MODIFIED:20200129T043821Z
UID:1662-1589392800-1589400000@www.ripponleaestate.com.au
SUMMARY:Scottish Towns and Grand Houses Tour featuring Capercaillie (Scotland)
DESCRIPTION:Scots folk band Capercaillie will perform as their original acoustic nucleus quartet of Karen Matheson (vocals)\, Charlie McKerrron (fiddle)\, Manus Lunny (Bouzouki) and Donald Shaw (Accordion) in a special stripped back quartet format for the inaugural Scottish Towns and Grand Houses Tour\, a new national tour at select National Trust properties to celebrate the Year of Scotland in Australia\, 2020. \nThe band have performed across Australia a number of times on headline theatre tours and festival appearances in the last 20 years are delighted to return with their unique take on traditional music and Gaelic songs. \nThe Tour is a magnificent opportunity to celebrate the very best in Scottish Gaelic music at Rippon Lea Estate. \n
URL:https://www.ripponleaestate.com.au/event/scottish-towns-grand-houses-tour/
LOCATION:192 Hotham Street\, Elsternwick\, 3185
ATTACH;FMTTYPE=image/jpeg:https://www.ripponleaestate.com.au/wp-content/uploads/Conservatory_1400x700.jpg
END:VEVENT
END:VCALENDAR