BEGIN:VCALENDAR
VERSION:2.0
PRODID:-//Rippon Lea Estate - ECPv4.6.19//NONSGML v1.0//EN
CALSCALE:GREGORIAN
METHOD:PUBLISH
X-WR-CALNAME:Rippon Lea Estate
X-ORIGINAL-URL:https://www.ripponleaestate.com.au
X-WR-CALDESC:Events for Rippon Lea Estate
BEGIN:VEVENT
DTSTART;TZID=Australia/Melbourne:20180223T000000
DTEND;TZID=Australia/Melbourne:20180223T000000
DTSTAMP:20200229T085845
CREATED:20171029T071758Z
LAST-MODIFIED:20180104T012810Z
UID:1572-1519344000-1519344000@www.ripponleaestate.com.au
SUMMARY:Rippon Lea Ballroom Gala Concert
DESCRIPTION:Join us for a rich performance presented by two renowned artists Victor Hu (piano) and Tony Fenelon (organ).\nThe same recital will be given twice\, at 1pm and again at 8pm\, each presentation running for approximately 1 hour with a 20 minute intermission. \nOur 8pm performance will hold a 20 minute reception before the main show. \nRefreshments and a program are included in the ticket price. \nThank you to our sponsors\nBernies Music Land \,  Brown Brothers Wines  and  3MBS Radio \nSpecial thanks to: Tony Fenelon\, Victor Hu and The Team Of Pianists \n
URL:https://www.ripponleaestate.com.au/event/rippon-lea-ballroom-gala-concert/
ATTACH;FMTTYPE=image/jpeg:https://www.ripponleaestate.com.au/wp-content/uploads/Gala-concert-New.jpg
END:VEVENT
END:VCALENDAR