BEGIN:VCALENDAR
VERSION:2.0
PRODID:-//Rippon Lea Estate - ECPv4.6.19//NONSGML v1.0//EN
CALSCALE:GREGORIAN
METHOD:PUBLISH
X-WR-CALNAME:Rippon Lea Estate
X-ORIGINAL-URL:https://www.ripponleaestate.com.au
X-WR-CALDESC:Events for Rippon Lea Estate
BEGIN:VEVENT
DTSTART;TZID=Australia/Melbourne:20200328T100000
DTEND;TZID=Australia/Melbourne:20200328T160000
DTSTAMP:20200229T085541
CREATED:20171029T071737Z
LAST-MODIFIED:20200221T010833Z
UID:1568-1585389600-1585411200@www.ripponleaestate.com.au
SUMMARY:Heritage Apple Tree Sale & Tasting Day
DESCRIPTION:Our annual Heritage Apple Tree Sale and Tasting Day is back. A wide range of rare and unusual heritage apple tree varieties straight from the Trust’s own prized collection will be available to take home for your very own garden. \nThe Trust along with the Heritage Fruits Society will also be hosting an apple tasting tour for a selection of unique and forgotten varieties in Rippon Lea’s heritage orchard. Taste and discover a breadth of flavour way beyond the realm of your local supermarket\, as we provide expert advice on all things apple and garden related. \nEntry to the gardens is included in your tasting tour or with your purchase of any apple tree variety. \nTickets for the tasting tour are strictly limited\, with entry to the apple tree sale free.\nPurchase tickets for the tasting tour here. \nSession Times \nSession 1: 10.30am – 12.00pm \nSession 2: 1.00pm – 2.30pm \nView the list of apple tree varieties for sale on the day here \n  \nThis event is run in conjunction with Heritage Fruits Society. \n
URL:https://www.ripponleaestate.com.au/event/heritage-apple-day/
LOCATION:192 Hotham Street\, Elsternwick\, 3185
ATTACH;FMTTYPE=image/jpeg:https://www.ripponleaestate.com.au/wp-content/uploads/Apple-day-1.jpg
END:VEVENT
END:VCALENDAR