BEGIN:VCALENDAR
VERSION:2.0
PRODID:-//Rippon Lea Estate - ECPv4.6.19//NONSGML v1.0//EN
CALSCALE:GREGORIAN
METHOD:PUBLISH
X-WR-CALNAME:Rippon Lea Estate
X-ORIGINAL-URL:https://www.ripponleaestate.com.au
X-WR-CALDESC:Events for Rippon Lea Estate
BEGIN:VEVENT
DTSTART;VALUE=DATE:20190802
DTEND;VALUE=DATE:20200801
DTSTAMP:20200229T082624
CREATED:20190729T045531Z
LAST-MODIFIED:20200223T233726Z
UID:2791-1564704000-1596239999@www.ripponleaestate.com.au
SUMMARY:Join the Gruffalo Trail
DESCRIPTION:Pick up The Gruffalo Trail throughout all 14 acres of Rippon Lea Estate. \nJourney through the winding paths and gardens into a deep dark wood\, and spot your favourite characters using the new augmented reality app. \nThe new interactive trail is included with entry\, along with all the photo opportunities you can snag. \nAbout the Gruffalo\nThe Gruffalo was initially published in 1999 in the United Kingdom and celebrates its 20th anniversary this year. The book was penned by writer and playwright Julia Donaldson\, illustrated by Axel Scheffler\, and tells the story of a mouse on a walk through a European forest. \nThe book has sold over 13 million copies\, has won several prizes for children’s literature\, and has been developed into plays on both the West End and Broadway and even adapted into an Oscar nominated animated film. \nWatch the making of The Gruffalo Spotter App here.  \nDownload to play\n\nPrior to your visit to Rippon Lea make sure to download The Gruffalo Spotter AUS App\, simply: \n\nOpen the App Store or Google Play (The Gruffalo Spotter AUS app is free for both iOS and Android users based in Australia)\nSearch ‘Gruffalo Spotter AUS’\nTap the app to open\nClick the get/install button\nOpen the app and make sure the settings are set for images to save directly to your camera roll.\nStart the trail at Rippon Lea Estate!\n\n  \n*Please note The Gruffalo Spotter has been developed for: \niOS: Requires iOS 11.0 or later. Compatible with iPhone 6s and up\, iPad 2017+\, iPad Pro. \nAndroid: Requires Android 7+ (Nougat) and up. \nPrevious versions of these devices will not be fully supported. \nUsing the app\nOnce you’ve downloaded the app\, keep an eye out for the special AR markers along the way to bring the characters to life. There are five markers to activate Mouse\, Fox\, Owl\, Snake and The Gruffalo. Jump behind or beside the marker to snap a photo. \nMake sure before taking a photo the app settings are set for images to save directly to your camera roll and be sure to save your photos or take a screen shot before deleting the app.  \nThen\, make sure to share your favourite pics with us using #NationalTrustVic and #GruffaloSpotters \n\nDownload a copy of the Frequently Asked Questions. \n
URL:https://www.ripponleaestate.com.au/event/gruffalo-trail-rippon-lea/
ATTACH;FMTTYPE=image/jpeg:https://www.ripponleaestate.com.au/wp-content/uploads/2019_RL_Gruffalo_website_banner_1920x6162.jpg
END:VEVENT
END:VCALENDAR