BEGIN:VCALENDAR
VERSION:2.0
PRODID:-//Rippon Lea Estate - ECPv4.6.19//NONSGML v1.0//EN
CALSCALE:GREGORIAN
METHOD:PUBLISH
X-WR-CALNAME:Rippon Lea Estate
X-ORIGINAL-URL:https://www.ripponleaestate.com.au
X-WR-CALDESC:Events for Rippon Lea Estate
BEGIN:VEVENT
DTSTART;TZID=Australia/Melbourne:20190901T110000
DTEND;TZID=Australia/Melbourne:20190901T150000
DTSTAMP:20200229T082956
CREATED:20190729T013800Z
LAST-MODIFIED:20190806T044224Z
UID:2780-1567335600-1567350000@www.ripponleaestate.com.au
SUMMARY:Father's and Dog's Day Out
DESCRIPTION:Proud sponsors Rippon Lea Veterinary Hospital and Hill’s Pet Nutrition invite every Dad and his dog for a Father’s Day out among the gardens. \nRound up Dad and his best friend for a day of workshops\, stalls\, dog training\, show bags\, our inaugural ‘best in show’ dog competition and a sausage sizzle by the Rotary Club of Glen Eira. \nPlease note that all dogs must be kept on a lead. \n  \n
URL:https://www.ripponleaestate.com.au/event/fathers-and-dogs-day-out-2019/
LOCATION:192 Hotham Street\, Elsternwick\, 3185
ATTACH;FMTTYPE=image/jpeg:https://www.ripponleaestate.com.au/wp-content/uploads/joe-caione-qO-PIF84Vxg-unsplash2-e1564364448675.jpg
END:VEVENT
END:VCALENDAR