BEGIN:VCALENDAR
VERSION:2.0
PRODID:-//Rippon Lea Estate - ECPv4.6.19//NONSGML v1.0//EN
CALSCALE:GREGORIAN
METHOD:PUBLISH
X-WR-CALNAME:Rippon Lea Estate
X-ORIGINAL-URL:https://www.ripponleaestate.com.au
X-WR-CALDESC:Events for Rippon Lea Estate
BEGIN:VEVENT
DTSTART;TZID=Australia/Melbourne:20191020T100000
DTEND;TZID=Australia/Melbourne:20191020T150000
DTSTAMP:20200229T083148
CREATED:20190925T051636Z
LAST-MODIFIED:20191018T051030Z
UID:2849-1571565600-1571583600@www.ripponleaestate.com.au
SUMMARY:Botanica Festival
DESCRIPTION:Botanica brings together all the garden inspiration you need to celebrate Australia’s natural wonders. \nPlant some fresh ideas in a day of workshops\, market stalls\, curated experiences and exclusive talks throughout the heritage grounds of Rippon Lea. There’ll be a special talk by Clive Blazey on heirloom seeds\, an awe-inspiring exhibition from the Ikebana International Society\, an immersive soundscape tour through the iconic fernery\, plant and book sales\, and a selection of organic wines and beers to wash it all down. \nAnd like the best things in life\, this event is free. \nSupported by The City Of Glen Eira \n  \nDon’t miss\nMansion open house \n10.30am – 12.30pm and 1.15pm – 3pm \nBird observation talk \nMeet in the Ballroom at 10.15am and 2pm \nSignificant Tree Tour \nMeet at National Trust Advocacy Stand at 11am\, 1pm and 2pm \n Talk by Clive Blazey founder of the Diggers Club  \nMeet in the Ballroom at 12pm \nBird spotting walk \nSign up at City of Glen Eira marquee at 12pm-12.30pm and 1pm-1.30pm \nGarden tour \nSign up at the plant stall at 1pm and 2.30pm \nPruning demonstration with Justin Buckley\, National Trust Horticulture Manager \nMeet at the plant stall at 2.30pm \n
URL:https://www.ripponleaestate.com.au/event/botanica-festival/
LOCATION:192 Hotham Street\, Elsternwick\, 3185
ATTACH;FMTTYPE=image/jpeg:https://www.ripponleaestate.com.au/wp-content/uploads/2019_RL_botanica_website_banner_1920x616.jpg
END:VEVENT
END:VCALENDAR